BEGIN:VCALENDAR
VERSION:2.0
PRODID:-//Tukios.com/
BEGIN:VEVENT
UID:7f23179a-d72a-4e35-8009-1a9a6dab0719@www.bryan-leefuneralhome.com
DTSTAMP:20260423T220344Z
DTSTART:20260425T153000Z
DTEND:20260425T163000Z
SUMMARY:Burial
DESCRIPTION:
URL:https://www.bryan-leefuneralhome.com/obituaries/wendy-katchmar
LOCATION: 7501 Glenwood Ave  Raleigh NC 27612
GEO:35.8663798;-78.7199107
END:VEVENT
END:VCALENDAR