BEGIN:VCALENDAR
VERSION:2.0
PRODID:-//Tukios.com/
BEGIN:VEVENT
UID:daa50698-171d-46af-8116-9ab65521f778@www.bryan-leefuneralhome.com
DTSTAMP:20260423T215701Z
DTSTART:20260425T140000Z
DTEND:20260425T150000Z
SUMMARY:Funeral Service
DESCRIPTION:
URL:https://www.bryan-leefuneralhome.com/obituaries/wendy-katchmar
LOCATION:Holy Transfiguration Orthodox Church 5408 Tryon Road  Raleigh NC 
	27606
GEO:35.7470736;-78.7306914
END:VEVENT
END:VCALENDAR