BEGIN:VCALENDAR
VERSION:2.0
PRODID:-//Tukios.com/
BEGIN:VEVENT
UID:842a288a-83db-4782-bd4c-928f0986dee7@www.bryan-leefuneralhome.com
DTSTAMP:20260421T161846Z
DTSTART:20260424T150000Z
DTEND:20260424T160000Z
SUMMARY:Burial
DESCRIPTION:
URL:https://www.bryan-leefuneralhome.com/obituaries/thomas-fraser-iii
LOCATION:Salem Cemetery 301 Cemetery Street  Winston-Salem NC 27101
GEO:36.091635;-80.2394504
END:VEVENT
END:VCALENDAR