BEGIN:VCALENDAR
VERSION:2.0
PRODID:-//Tukios.com/
BEGIN:VEVENT
UID:32424e81-8bb4-4adf-a759-7c333effe483@www.bryan-leefuneralhome.com
DTSTAMP:20260421T161644Z
DTSTART:20260423T150000Z
DTEND:20260423T160000Z
SUMMARY:Funeral Service
DESCRIPTION:
URL:https://www.bryan-leefuneralhome.com/obituaries/thomas-fraser-iii
LOCATION: 11401 Leesville Road  Raleigh NC 27613
GEO:35.9186519;-78.7393306
END:VEVENT
END:VCALENDAR