BEGIN:VCALENDAR
VERSION:2.0
PRODID:-//Tukios.com/
BEGIN:VEVENT
UID:50def43d-9ba8-456d-b6c0-de6bd0b4e05b@www.bryan-leefuneralhome.com
DTSTAMP:20260420T165824Z
DTSTART:20260426T200000Z
DTEND:20260426T220000Z
SUMMARY:Visitation
DESCRIPTION:
URL:https://www.bryan-leefuneralhome.com/obituaries/stanley-buol
LOCATION:Bryan-Lee Funeral Home- Garner 1200 Benson Road  Garner NC 27529
GEO:35.6929539;-78.607938
END:VEVENT
END:VCALENDAR