BEGIN:VCALENDAR
VERSION:2.0
PRODID:-//Tukios.com/
BEGIN:VEVENT
UID:814c6d34-5cbb-4e79-9866-a3c5871d5c0d@www.bryan-leefuneralhome.com
DTSTAMP:20260420T165839Z
DTSTART:20260427T150000Z
DTEND:20260427T153000Z
SUMMARY:Funeral Service
DESCRIPTION:
URL:https://www.bryan-leefuneralhome.com/obituaries/stanley-buol
LOCATION:Saint Andrews United Methodist Church 1201 Maxwell Dr  Raleigh 
	NC 27603
GEO:35.7123217;-78.6556085
END:VEVENT
END:VCALENDAR