BEGIN:VCALENDAR
VERSION:2.0
PRODID:-//Tukios.com/
BEGIN:VEVENT
UID:82d3a7e4-0d40-4d11-a84d-7aa22d73a504@www.bryan-leefuneralhome.com
DTSTAMP:20260420T165824Z
DTSTART:20260427T160000Z
DTEND:20260427T170000Z
SUMMARY:Burial
DESCRIPTION:
URL:https://www.bryan-leefuneralhome.com/obituaries/stanley-buol
LOCATION:Montlawn Memorial Park 2911 S Wilmington Street  Raleigh NC 
	27603
GEO:35.7407724;-78.6480567
END:VEVENT
END:VCALENDAR