BEGIN:VCALENDAR
VERSION:2.0
PRODID:-//Tukios.com/
BEGIN:VEVENT
UID:147a8794-3437-4cc2-91a6-8f8b31671cfe@www.bryan-leefuneralhome.com
DTSTAMP:20260422T170827Z
DTSTART:20260502T143000Z
DTEND:20260502T153000Z
SUMMARY:Celebration of Life
DESCRIPTION:
URL:https://www.bryan-leefuneralhome.com/obituaries/eva-byrd
LOCATION:Amplify Church 2884 NC 42  Willow Spring NC 27592
GEO:35.589866;-78.693661
END:VEVENT
END:VCALENDAR