BEGIN:VCALENDAR
VERSION:2.0
PRODID:-//Tukios.com/
BEGIN:VEVENT
UID:25162786-4560-4c4f-bab4-3e0e10a879b4@www.bryan-leefuneralhome.com
DTSTAMP:20260424T013845Z
DTSTART:20260429T180000Z
DTEND:20260429T183000Z
SUMMARY:Entombment
DESCRIPTION:
URL:https://www.bryan-leefuneralhome.com/obituaries/doris-mclamb
LOCATION:Montlawn Memorial Park 2911 S Wilmington Street  Raleigh NC 
	27603
GEO:35.7407724;-78.6480567
END:VEVENT
END:VCALENDAR