BEGIN:VCALENDAR
VERSION:2.0
PRODID:-//Tukios.com/
BEGIN:VEVENT
UID:ee736bf5-6273-41e7-8141-fc46cf0a881b@www.bryan-leefuneralhome.com
DTSTAMP:20260424T013845Z
DTSTART:20260429T160000Z
DTEND:20260429T164500Z
SUMMARY:Visitation
DESCRIPTION:
URL:https://www.bryan-leefuneralhome.com/obituaries/doris-mclamb
LOCATION:Garner Church of Christ     
GEO:0;0
END:VEVENT
END:VCALENDAR