BEGIN:VCALENDAR
VERSION:2.0
PRODID:-//Tukios.com/
BEGIN:VEVENT
UID:1bcd0f70-046e-47a5-b484-85115a8337a3@www.bryan-leefuneralhome.com
DTSTAMP:20260424T014102Z
DTSTART:20260429T170000Z
DTEND:20260429T173000Z
SUMMARY:Funeral Service
DESCRIPTION:
URL:https://www.bryan-leefuneralhome.com/obituaries/doris-mclamb
LOCATION:Garner Church of Christ     
GEO:0;0
END:VEVENT
END:VCALENDAR