BEGIN:VCALENDAR
VERSION:2.0
PRODID:-//Tukios.com/
BEGIN:VEVENT
UID:4e0f4192-edb7-49d5-8cfd-0b74a80b8757@www.bryan-leefuneralhome.com
DTSTAMP:20260421T160656Z
DTSTART:20260427T210000Z
DTEND:20260427T230000Z
SUMMARY:Visitation
DESCRIPTION:
URL:https://www.bryan-leefuneralhome.com/obituaries/donald-thompson
LOCATION:Bryan-Lee Funeral Home- Garner 1200 Benson Road  Garner NC 27529
GEO:35.6929539;-78.607938
END:VEVENT
END:VCALENDAR