BEGIN:VCALENDAR
VERSION:2.0
PRODID:-//Tukios.com/
BEGIN:VEVENT
UID:d9f75149-9b57-4b8a-9708-addc89086f31@www.bryan-leefuneralhome.com
DTSTAMP:20260421T161326Z
DTSTART:20260428T150000Z
DTEND:20260428T153000Z
SUMMARY:Funeral Service
DESCRIPTION:
URL:https://www.bryan-leefuneralhome.com/obituaries/donald-thompson
LOCATION:Vandora Springs Church     
GEO:0;0
END:VEVENT
END:VCALENDAR